BEGIN:VCALENDAR
VERSION:2.0
PRODID:-//ASPE Richmond - ECPv6.15.20//NONSGML v1.0//EN
CALSCALE:GREGORIAN
METHOD:PUBLISH
X-WR-CALNAME:ASPE Richmond
X-ORIGINAL-URL:https://richmond-aspe.com
X-WR-CALDESC:Events for ASPE Richmond
REFRESH-INTERVAL;VALUE=DURATION:PT1H
X-Robots-Tag:noindex
X-PUBLISHED-TTL:PT1H
BEGIN:VTIMEZONE
TZID:UTC
BEGIN:STANDARD
TZOFFSETFROM:+0000
TZOFFSETTO:+0000
TZNAME:UTC
DTSTART:20220101T000000
END:STANDARD
END:VTIMEZONE
BEGIN:VEVENT
DTSTART;VALUE=DATE:20230928
DTEND;VALUE=DATE:20231002
DTSTAMP:20260422T105025
CREATED:20230920T210204Z
LAST-MODIFIED:20230920T210204Z
UID:417-1695859200-1696204799@richmond-aspe.com
SUMMARY:2023 ASPE Technical Symposium
DESCRIPTION:ASPE National – 2023 Technical Symposium in Bellevue\, Washington \n2023 Tech Symposium // Sept. 28 – Oct. 1 – ASPE \nFor more information or to register for the symposium go to www.aspe.org or click on the link above.
URL:https://richmond-aspe.com/calendar/2023-aspe-technical-symposium/
LOCATION:Hyatt Bellevue\, 900 Bellevue Way NE\, Bellevue\, WA\, 98004\, United States
END:VEVENT
BEGIN:VEVENT
DTSTART;TZID=UTC:20231009T103000
DTEND;TZID=UTC:20231009T170000
DTSTAMP:20260422T105025
CREATED:20230920T203006Z
LAST-MODIFIED:20230920T203006Z
UID:399-1696847400-1696870800@richmond-aspe.com
SUMMARY:2023 ASPE Richmond Chapter Golf Outing
DESCRIPTION:Come join us for the ASPE Richmond Chapter Golf Outing at Hanover Country Club on October 9th 2023.  \n2023 ASPE Richmond Golf Registration
URL:https://richmond-aspe.com/calendar/2023-aspe-richmond-chapter-golf-outing/
LOCATION:Hanover Country Club\, 14319 Golf Club Drive\, Ashland\, VA\, 23005\, United States
END:VEVENT
BEGIN:VEVENT
DTSTART;TZID=UTC:20231011T113000
DTEND;TZID=UTC:20231011T130000
DTSTAMP:20260422T105025
CREATED:20230920T204015Z
LAST-MODIFIED:20230920T204015Z
UID:406-1697023800-1697029200@richmond-aspe.com
SUMMARY:ASPE Richmond Technical Meeting - Oct 2023
DESCRIPTION:Topic: Flue Gas Venting Materials and Standards \nPresenter: TBD via Cindy Lau with ROI Marketing
URL:https://richmond-aspe.com/calendar/aspe-richmond-technical-meeting-oct-2023/
LOCATION:Glen Allen Cultural Arts Center – Dogwood Room\, 2880 Mountain Road\, Glen Allen\, VA\, 23060\, United States
END:VEVENT
END:VCALENDAR